BEGIN:VCALENDAR
VERSION:2.0
PRODID:-//Az út a boldogsághoz - ECPv5.4.0.1//NONSGML v1.0//EN
CALSCALE:GREGORIAN
METHOD:PUBLISH
X-WR-CALNAME:Az út a boldogsághoz
X-ORIGINAL-URL:https://regi.azutaboldogsaghoz.hu
X-WR-CALDESC:Events for Az út a boldogsághoz
BEGIN:VTIMEZONE
TZID:UTC
BEGIN:STANDARD
TZOFFSETFROM:+0000
TZOFFSETTO:+0000
TZNAME:UTC
DTSTART:20180101T000000
END:STANDARD
END:VTIMEZONE
BEGIN:VEVENT
DTSTART;TZID=UTC:20181124T093000
DTEND;TZID=UTC:20181124T160000
DTSTAMP:20260420T144638
CREATED:20181007T084222Z
LAST-MODIFIED:20190902T142646Z
UID:9161-1543051800-1543075200@regi.azutaboldogsaghoz.hu
SUMMARY:Országos Pedagógus Konferencia
DESCRIPTION:
URL:https://regi.azutaboldogsaghoz.hu/esemeny/orszagos-pedagogus-konferencia/
LOCATION:Budapest\, Novotel Budapest Centrum\, Rákóczi út 43-45.\, Budapest\, 1088
ORGANIZER;CN="Vir%C3%A1gozz%20%C3%A9s%20Prosper%C3%A1lj%20Alap%C3%ADtv%C3%A1ny":MAILTO:oktatas@regi.azutaboldogsaghoz.hu
END:VEVENT
END:VCALENDAR