BEGIN:VCALENDAR
VERSION:2.0
PRODID:-//Az út a boldogsághoz - ECPv5.4.0.1//NONSGML v1.0//EN
CALSCALE:GREGORIAN
METHOD:PUBLISH
X-WR-CALNAME:Az út a boldogsághoz
X-ORIGINAL-URL:https://regi.azutaboldogsaghoz.hu
X-WR-CALDESC:Events for Az út a boldogsághoz
BEGIN:VTIMEZONE
TZID:UTC
BEGIN:STANDARD
TZOFFSETFROM:+0000
TZOFFSETTO:+0000
TZNAME:UTC
DTSTART:20180101T000000
END:STANDARD
END:VTIMEZONE
BEGIN:VEVENT
DTSTART;VALUE=DATE:20180308
DTEND;VALUE=DATE:20180309
DTSTAMP:20260420T191039
CREATED:20180210T164227Z
LAST-MODIFIED:20180210T164343Z
UID:8574-1520467200-1520553599@regi.azutaboldogsaghoz.hu
SUMMARY:Nőnapi játék
DESCRIPTION:Mi fontosnak tartjuk a figyelmességet\, kedvességet. Ha Te is így vagy ezzel és van kedved játszani\, hát íme nőnapi játékunk\, mely elérhető Facebook oldalunkon: \nÍrd le nekünk\, hogy Te miért csatlakozol Nőnap alkalmából\, hogy figyelmmel\, kedvességgel felköszöntsd a nőket. 🙂 \nHa van kedved\, küldj egy képet is\, hogy hogyan is ünnepelted meg a Nőnapot. \nwww.facebook.com/azutaboldogsaghoz \nMindenkit megajándékozunk Az út a boldogsághoz könyvecskével\, aki részt vesz a nőnapi játékunkban. 🙂
URL:https://regi.azutaboldogsaghoz.hu/esemeny/nonapi-jatek/
ATTACH;FMTTYPE=image/jpeg:https://regi.azutaboldogsaghoz.hu/wp-content/uploads/2018/02/no.jpg
ORGANIZER;CN="Az%20%C3%BAt%20a%20boldogs%C3%A1ghoz%20Magyarorsz%C3%A1g":MAILTO:azutaboldogsaghoz@regi.azutaboldogsaghoz.hu
END:VEVENT
END:VCALENDAR