BEGIN:VCALENDAR
VERSION:2.0
PRODID:-//Az út a boldogsághoz - ECPv5.4.0.1//NONSGML v1.0//EN
CALSCALE:GREGORIAN
METHOD:PUBLISH
X-WR-CALNAME:Az út a boldogsághoz
X-ORIGINAL-URL:https://regi.azutaboldogsaghoz.hu
X-WR-CALDESC:Events for Az út a boldogsághoz
BEGIN:VTIMEZONE
TZID:UTC
BEGIN:STANDARD
TZOFFSETFROM:+0000
TZOFFSETTO:+0000
TZNAME:UTC
DTSTART:20180101T000000
END:STANDARD
END:VTIMEZONE
BEGIN:VEVENT
DTSTART;VALUE=DATE:20180212
DTEND;VALUE=DATE:20180218
DTSTAMP:20260420T224506
CREATED:20180120T162612Z
LAST-MODIFIED:20180210T162402Z
UID:8388-1518393600-1518911999@regi.azutaboldogsaghoz.hu
SUMMARY:Házasság világnapi játék
DESCRIPTION:Mi fontosnak tartjuk a boldog párkapcsolatot. Ha Te is és van kedved játszani\, hát íme a Házasság világnapi játékunk\, mely elérhető Facebook oldalunkon: \nÍrd le nekünk\, hogy számodra miért is fontos és egy boldogsággal teli házasság\, párkapcsolat és nálatok mi a jó párkapcsolat titka. 🙂 \nHa van kedved\, küldj egy képet is a párodról és rólad. \nwww.facebook.com/azutaboldogsaghoz \nMindenkit megajándékozunk Az út a boldogsághoz könyvecskével\, aki részt vesz a Házasság világnapi játékunkban. 🙂
URL:https://regi.azutaboldogsaghoz.hu/esemeny/hazassag-vilagnapja/
ATTACH;FMTTYPE=image/jpeg:https://regi.azutaboldogsaghoz.hu/wp-content/uploads/2018/01/hazassag.jpg
ORGANIZER;CN="Az%20%C3%BAt%20a%20boldogs%C3%A1ghoz%20Magyarorsz%C3%A1g":MAILTO:azutaboldogsaghoz@regi.azutaboldogsaghoz.hu
END:VEVENT
END:VCALENDAR